BEGIN:VCALENDAR
VERSION:2.0
PRODID:-//Sydney Leather Men Inc. (SLM) - ECPv6.15.20//NONSGML v1.0//EN
CALSCALE:GREGORIAN
METHOD:PUBLISH
X-ORIGINAL-URL:https://sydneyleathermen.com
X-WR-CALDESC:Events for Sydney Leather Men Inc. (SLM)
REFRESH-INTERVAL;VALUE=DURATION:PT1H
X-Robots-Tag:noindex
X-PUBLISHED-TTL:PT1H
BEGIN:VTIMEZONE
TZID:Australia/Sydney
BEGIN:STANDARD
TZOFFSETFROM:+1100
TZOFFSETTO:+1000
TZNAME:AEST
DTSTART:20240406T160000
END:STANDARD
BEGIN:DAYLIGHT
TZOFFSETFROM:+1000
TZOFFSETTO:+1100
TZNAME:AEDT
DTSTART:20241005T160000
END:DAYLIGHT
BEGIN:STANDARD
TZOFFSETFROM:+1100
TZOFFSETTO:+1000
TZNAME:AEST
DTSTART:20250405T160000
END:STANDARD
BEGIN:DAYLIGHT
TZOFFSETFROM:+1000
TZOFFSETTO:+1100
TZNAME:AEDT
DTSTART:20251004T160000
END:DAYLIGHT
BEGIN:STANDARD
TZOFFSETFROM:+1100
TZOFFSETTO:+1000
TZNAME:AEST
DTSTART:20260404T160000
END:STANDARD
BEGIN:DAYLIGHT
TZOFFSETFROM:+1000
TZOFFSETTO:+1100
TZNAME:AEDT
DTSTART:20261003T160000
END:DAYLIGHT
END:VTIMEZONE
BEGIN:VEVENT
DTSTART;TZID=Australia/Sydney:20250919T193000
DTEND;TZID=Australia/Sydney:20250919T233000
DTSTAMP:20260423T145145
CREATED:20250206T030657Z
LAST-MODIFIED:20250825T084342Z
UID:4126-1758310200-1758324600@sydneyleathermen.com
SUMMARY:SLM Inc. Presents Monthly Leather Social - BLUF Social & Cigar Night – September 2025 
DESCRIPTION:SLM Inc. Presents Monthly Leather Social – BLUF Social & Cigar Night – September 2025\n\nPresented by SLM Inc\, BLUF (Breeches Leather Uniform Fanclub) is a worldwide organisation bringing like-minded leather men together\, this event is not to be missed!\n\n\nFREE ENTRY & COAT CHECK FOR MEMBERS ONLY*\nMEMBERS GET DISCOUNTED DRINKS\nMEMBERS ONLY RAFFLE & CASH DRAW\nCIGAR BALCONY\nBOOTBLACK AVAILABLE\n\n\n* Sydney Leather Men (SLM) has recently introduced a $5 door and coat check fee for non-members. Non-members are welcome to attend SLM events\, simply by paying the $5 entry fee. Members of affiliate organisations\, HCB\, BootCo\, and Adelaide Leather & Fetish\, can enter free on presentation of their valid membership card.\n\nJoin us for BLUF Sydney Social\, where leather men come together in a welcoming\, supportive\, and vibrant environment. Hosted by SLM Inc.\, this event is all about building connections and celebrating our shared love of leather. Whether you’re a seasoned leather man or new to the scene.\n\nOur Leather Dress Code sets the tone with one major piece of leather encouraged\, We have also adopted the dress code of Leather\, Denim\, Uniform and Boots. While we love seeing everyone dressed to impress\, newcomers and aspiring leather men are warmly welcomed even if they’re not fully outfitted. We do ask that you make an effort\, and if you plan to join us regularly\, consider investing in some leather gear to embrace the full experience!\n\n\n\nLocation: Join us upstairs at Polo Lounge in the Oxford Hotel. We have a dedicated Cigar Balcony and Bootblack on Duty.\n\n\n\n\nSLM welcomes and celebrates those who\, through self-affirmed identity\, identify as male or feel aligned within the spectrum of male identity and the spirit of being a Leatherman. We are a safe space committed to building community\, one connection at a time. Please see our participation policy and code of conduct for further details.\n\nPlease know there is no expectation or pressure to drink alcohol at our events\, while many of our members do choose to\, others don’t\, and still come to enjoy the atmosphere\, connection\, and community.\n\n\nWe are also the home of Sydney Mr. Leather 2025 and supporting organisation for Sydney Bootblack.\n\nA special thanks to our incredible sponsors: Sax Fetish\, Naughty Boy Australia\, Studio Kink Sydney\, and Darkroom Daddy Photography\, for their ongoing support of SLM Inc. and the Sydney leather and fetish community.\n\nPlease note: Unfortunately\, The Polo Lounge does not currently have wheelchair access\, and there are several sets of stairs that may present challenges for those with mobility needs. We sincerely apologise for this limitation. SLM is committed to creating spaces for everyone in our community\, and we’re pleased to offer other events with full mobility access\, such as UNITY – where all are welcome.
URL:https://sydneyleathermen.com/event/slm-inc-presents-the-bluf-sydney-social-september-2025-the-final-bluf-social-of-2025/
LOCATION:Oxford Hotel\, 134 Oxford Street\, Darlinghurst\, NSW\, 2010\, Australia
CATEGORIES:BLUF & Cigar Events,Monthly Leather Social
ATTACH;FMTTYPE=image/jpeg:https://sydneyleathermen.com/wp-content/uploads/2025/02/slm25-sept-social-banner.jpg
ORGANIZER;CN="Sydney Leather Men Inc. (SLM)":MAILTO:event@sydneyleathermen.com
END:VEVENT
END:VCALENDAR