BEGIN:VCALENDAR
VERSION:2.0
PRODID:-//Sydney Leather Men Inc. (SLM) - ECPv6.15.20//NONSGML v1.0//EN
CALSCALE:GREGORIAN
METHOD:PUBLISH
X-ORIGINAL-URL:https://sydneyleathermen.com
X-WR-CALDESC:Events for Sydney Leather Men Inc. (SLM)
REFRESH-INTERVAL;VALUE=DURATION:PT1H
X-Robots-Tag:noindex
X-PUBLISHED-TTL:PT1H
BEGIN:VTIMEZONE
TZID:Australia/Sydney
BEGIN:STANDARD
TZOFFSETFROM:+1100
TZOFFSETTO:+1000
TZNAME:AEST
DTSTART:20250405T160000
END:STANDARD
BEGIN:DAYLIGHT
TZOFFSETFROM:+1000
TZOFFSETTO:+1100
TZNAME:AEDT
DTSTART:20251004T160000
END:DAYLIGHT
BEGIN:STANDARD
TZOFFSETFROM:+1100
TZOFFSETTO:+1000
TZNAME:AEST
DTSTART:20260404T160000
END:STANDARD
BEGIN:DAYLIGHT
TZOFFSETFROM:+1000
TZOFFSETTO:+1100
TZNAME:AEDT
DTSTART:20261003T160000
END:DAYLIGHT
BEGIN:STANDARD
TZOFFSETFROM:+1100
TZOFFSETTO:+1000
TZNAME:AEST
DTSTART:20270403T160000
END:STANDARD
BEGIN:DAYLIGHT
TZOFFSETFROM:+1000
TZOFFSETTO:+1100
TZNAME:AEDT
DTSTART:20271002T160000
END:DAYLIGHT
END:VTIMEZONE
BEGIN:VEVENT
DTSTART;TZID=Australia/Sydney:20260116T193000
DTEND;TZID=Australia/Sydney:20260117T000000
DTSTAMP:20260423T081537
CREATED:20251021T031632Z
LAST-MODIFIED:20251211T051826Z
UID:5842-1768591800-1768608000@sydneyleathermen.com
SUMMARY:Monthly Leather Social - Summer Edition - January 2026
DESCRIPTION:Monthly Leather Social — a night of connection\, leather\, cigars\, boots\, and brotherhood. \nIncorporating the men of BLUF (Breeches Leather Uniform Fanclub)\, a global network of leather men united in pride\, passion\, and style. \n💥 Free Entry & Coat Check for Members \n💥 Discounted Drinks for Members \n💥 Members-Only Raffle & Cash Draw \n💥 Cigar Balcony & Bootblack Service Often Available \n💥 $5 Entry for Non-Members \nCome as you are\, or as you aspire to be. Whether you’re a seasoned Leatherman or just discovering the scene\, this is your place to connect\, celebrate\, and feel part of something bigger. Dress in Leather\, Denim\, Uniform\, or Boots\, one key piece of leather is encouraged but not essential. \nWe’re proud to be a home for Sydney Mr. Leather 2025 Luis\, Sydney Mx Leather 2025 Zed\, and Sydney Bootblack 2025 Mia\, representing the best of our community and are supporters of Sydney Ms Leather 2025 Margo. \nSpecial thanks to our incredible sponsors\, The Oxford Hotel\, Sax Fetish\, Studio Kink and Darkroom Daddy for their ongoing support. \nJoin us upstairs at Polo Lounge\, Oxford Hotel. (Note: Venue has limited accessibility\, we apologise for any inconvenience)
URL:https://sydneyleathermen.com/event/monthly-leather-social-summer-edition-january-2026/
LOCATION:Oxford Hotel\, 134 Oxford Street\, Darlinghurst\, NSW\, 2010\, Australia
CATEGORIES:Monthly Leather Social
ATTACH;FMTTYPE=image/jpeg:https://sydneyleathermen.com/wp-content/uploads/2025/10/2026-january-banner.jpg
ORGANIZER;CN="Sydney Leather Men Inc. (SLM)":MAILTO:event@sydneyleathermen.com
END:VEVENT
END:VCALENDAR