BEGIN:VCALENDAR
VERSION:2.0
PRODID:-//Sydney Leather Men Inc. (SLM) - ECPv6.15.20//NONSGML v1.0//EN
CALSCALE:GREGORIAN
METHOD:PUBLISH
X-ORIGINAL-URL:https://sydneyleathermen.com
X-WR-CALDESC:Events for Sydney Leather Men Inc. (SLM)
REFRESH-INTERVAL;VALUE=DURATION:PT1H
X-Robots-Tag:noindex
X-PUBLISHED-TTL:PT1H
BEGIN:VTIMEZONE
TZID:Australia/Sydney
BEGIN:STANDARD
TZOFFSETFROM:+1100
TZOFFSETTO:+1000
TZNAME:AEST
DTSTART:20210403T160000
END:STANDARD
BEGIN:DAYLIGHT
TZOFFSETFROM:+1000
TZOFFSETTO:+1100
TZNAME:AEDT
DTSTART:20211002T160000
END:DAYLIGHT
BEGIN:STANDARD
TZOFFSETFROM:+1100
TZOFFSETTO:+1000
TZNAME:AEST
DTSTART:20220402T160000
END:STANDARD
BEGIN:DAYLIGHT
TZOFFSETFROM:+1000
TZOFFSETTO:+1100
TZNAME:AEDT
DTSTART:20221001T160000
END:DAYLIGHT
BEGIN:STANDARD
TZOFFSETFROM:+1100
TZOFFSETTO:+1000
TZNAME:AEST
DTSTART:20230401T160000
END:STANDARD
BEGIN:DAYLIGHT
TZOFFSETFROM:+1000
TZOFFSETTO:+1100
TZNAME:AEDT
DTSTART:20230930T160000
END:DAYLIGHT
END:VTIMEZONE
BEGIN:VEVENT
DTSTART;TZID=Australia/Sydney:20221211T183000
DTEND;TZID=Australia/Sydney:20221211T213000
DTSTAMP:20260421T202150
CREATED:20220928T050944Z
LAST-MODIFIED:20221204T072815Z
UID:492-1670783400-1670794200@sydneyleathermen.com
SUMMARY:SLM Present The Leather Men's Dinner - Christmas Edition
DESCRIPTION:Sydney Leathermen SLM Present – The Leather Men’s Dinner (Christmas Edition)\nThis is a Members & Guests Event. Leather Dress Code & Splash of Christmas. \nSunday 11th December 6:30pm – 9:30pm  \nBeast & Co on Bourke Street (Opposite the Beresford Hotel) \nMenu \n\nENTRÉE:\nTHE BEAST BOARD (Shared)\ncamembert\, cold meats\, chicken liver pate\, charred\npeppers\, pickled veggies\, grilled bread\n\n  \n\nMAINS: –  Choose One Main. Must Advise SLM No Later than the 4th December Of Your Choice\, Anybody who Doesn’t Advise of Choice will be Allocated Pork Belly.\n\n\n\n\n– BARLEY RISOTTO\nseasonal greens | chives | butter | quark V\, VGO\n– HOUSE-MADE POTATO “NOKY”\n\n\n\n\nkohlrabi | cabbage | speck | goats kefir VO\n\n\n\n\n– PORK CUTLET SCHNITZEL\ngarlic | butter | parsley | house pickles\n\n\n\n\n– PAN-SEARED BARRAMUNDI\npea | lemon | pink peppercorn | fish broth GF\n\n\n\n\n– SOUS-VIDE CHICKEN BREAST\nsage | burnt butter | parsnip | lemon | jus GF\n\n\n\n\n– PORK BELLY\nspinach | speck | beer broth GF\n\n\n\n\n– DUCK BREAST\nred cabbage | grapes | berries | duck jus GF\n\n\n\n\n– FLANK STEAK\ngarlic | lemon | anchovy butter | jus GF\n\n\n\n\n\n\n  \n\nSIDE:\nSeasonal greens with roasted almonds and bowls of fries.\n\n  \n\nDESSERT:\nMini Czech Doughnut\, plum jam\, berries\, cream\n\n\nDrinks \nWe have decided to run with a consistent approach of pay for your own drinks at the end of the night. Please ensure you track your drinks and pay for them. (PYOD) \nLimited Places – Pre Purchase Your Tickets ASAP (Tickets cover the food costs only)- Drinks are not included.
URL:https://sydneyleathermen.com/event/sydney-leathermens-xmas-dinner/
LOCATION:Beast & Co.\, Shop 15/425 Bourke Street\, Surry Hills\, New South Wales\, 2010\, Australia
CATEGORIES:Other SLM Events
ATTACH;FMTTYPE=image/png:https://sydneyleathermen.com/wp-content/uploads/2022/09/SLMLEATHERDINNERPOSTER.png
ORGANIZER;CN="Sydney Leather Men Inc. (SLM)":MAILTO:event@sydneyleathermen.com
END:VEVENT
BEGIN:VEVENT
DTSTART;TZID=Australia/Sydney:20220924T123000
DTEND;TZID=Australia/Sydney:20220924T153000
DTSTAMP:20260421T202150
CREATED:20220826T055708Z
LAST-MODIFIED:20220922T001339Z
UID:235-1664022600-1664033400@sydneyleathermen.com
SUMMARY:SLM Present The SFW Leather Mens Lunch
DESCRIPTION:Sydney Leathermen (SLM) Presents The Leather Mens Lunch During Sydney Fetish Week 2022 (SFW22).\n\nThis will be a long table (or 2 smaller ones) across the beer garden of the Beresford hotel\, tables filled with 40 Leathermen in standard SLM Leather Dress Code* celebrating Sydney Fetish Week and Visibility in Gear. #gear365\n\nWhile SLM would generally like to avoid money changing hands\, this type of event and the possibility people could not turn up means we need commitment and also due to the limited availability of spaces we have created a ticket system for $10.\nThe Ticket Price Guarantees Your Seat At The Long Table as One of Currently 30 Leathermen And A First Drink Card (The $10 Charge Also Includes The Fees for Humanatix)\nDuring The Long Table Lunch You Will Order Your Own Food & Drinks At Your Own Expense From the Table By Phone App or At The Bar.\nTickets Are Non Refundable For Failure to Show or Cancellations Within 48 Hours\n\nevents.humanitix.com/slm-present-the-leathermens-long-table-lunch
URL:https://sydneyleathermen.com/event/slm-present-the-sfw-leather-mens-lunch/
LOCATION:The Beresford Hotel\, 354 Bourke Street\, Surry Hills\, NSW\, 2010\, Australia
CATEGORIES:Other SLM Events
ATTACH;FMTTYPE=image/png:https://sydneyleathermen.com/wp-content/uploads/2022/08/SLM-Leather-Lunch-Poster-V2.png
ORGANIZER;CN="Sydney Leather Men Inc. (SLM)":MAILTO:event@sydneyleathermen.com
END:VEVENT
END:VCALENDAR